BEGIN:VCALENDAR
VERSION:2.0
PRODID:-//왈츠와 닥터만 커피 - ECPv4.8//NONSGML v1.0//EN
CALSCALE:GREGORIAN
METHOD:PUBLISH
X-WR-CALNAME:왈츠와 닥터만 커피
X-ORIGINAL-URL:http://wndcof.org/wordpress
X-WR-CALDESC:Events for 왈츠와 닥터만 커피
BEGIN:VEVENT
DTSTART;TZID=UTC+0:20170825T200000
DTEND;TZID=UTC+0:20170825T200000
DTSTAMP:20260421T120738
CREATED:20170213T015959Z
LAST-MODIFIED:20170810T173422Z
UID:4895-1503691200-1503691200@wndcof.org
SUMMARY:574회 닥터만 금요음악회- 소프라노 이윤숙 초청연주회
DESCRIPTION:소프라노 이윤숙\n연세대학교 음악대학 성악과 졸업\n미국 뉴잉글랜드 음악대학원(MM) 졸업\n미국 탱글우드 뮤직센타 펠로우\n미국 캐피톨오페라 국제콩쿨 1위\n미국 아티즈어워드협회 최우수오페라가수상 수상\n국립\, 서울시립\, 예술의 전당 기획오페라 등 국내\,국외의 유명 오페라단에서 시집가는날\, 마술피리\, 피가로의 결혼\, 돈조반니\, 나비부인\, 라보엠\, 잔니스키끼\, 카르멘\, 라트라비아타\, 대장경\, 코지판 투떼 등 다수의 오페라 주역 출연\n이태리 꼬모 클래시카 초청독창회\n이태리 Anita Cerquetti 국제콩쿨 심사위원 역임.\n국내 유수의 오케스트라와 헨델의 메시야\, 모짜르트 대관식미사\, 베토벤의 9심포니\, 등 협연\n한국가곡 창작곡발표회\, 신작가곡발표회 등 초청연주\n현 협성대학교 예술대학 교수 \n  \n  \n피아니스트 김소강\n 서울예술고등학교\, 연세대학교 음악대학 및 동대학원 졸업\n독일 드레스덴 음악대학 오페라 반주 박사과정 수석 졸업\n브레멘 극장 초청 연주\, 스페인 테네리페 초청 아카데미 페스티벌 참가\n드레스덴 오페라 콩쿠르 상임반주자 역임\n이탈리아 Accademia di Musica Beniamino Gigli에서 Diploma 취득\n현 연세대학교\, 한국예술종합학교 출강 \n  \n \nS. Donaudy         Vaghissima Sembianza\nR. Leoncavallo     Mattinata \nL. Ronald          A Cycle of life\n1.  Prelude\n2.  Spring\n3.  Summer\n윤 용 하           보리밭\n김 성 태           동심초 \n조 성 은           님이 오시는지\n김 주 원           연꽃 만나고 가는 바람같이 \nC. Gounod          O Dieu! que de bijoux\nOpera 「Faust」 중 \nA. Dvořák          Song to the Moon\nOpera 「Rusalka」 중 \n  \n
URL:http://wndcof.org/wordpress/?tribe_events=574%ed%9a%8c-%eb%8b%a5%ed%84%b0%eb%a7%8c-%ea%b8%88%ec%9a%94%ec%9d%8c%ec%95%85%ed%9a%8c-%ec%86%8c%ed%94%84%eb%9d%bc%eb%85%b8-%ec%9d%b4%ec%9c%a4%ec%88%99-%ec%b4%88%ec%b2%ad%ec%97%b0%ec%a3%bc%ed%9a%8c
CATEGORIES:닥터만 금요음악회 일정
ATTACH;FMTTYPE=image/jpeg:http://wndcof.org/wordpress/wp-content/uploads/2017/02/제목-없음-2.jpg
END:VEVENT
END:VCALENDAR