BEGIN:VCALENDAR
VERSION:2.0
PRODID:-//왈츠와 닥터만 커피 - ECPv4.8//NONSGML v1.0//EN
CALSCALE:GREGORIAN
METHOD:PUBLISH
X-WR-CALNAME:왈츠와 닥터만 커피
X-ORIGINAL-URL:http://wndcof.org/wordpress
X-WR-CALDESC:Events for 왈츠와 닥터만 커피
BEGIN:VEVENT
DTSTART;TZID=UTC+0:20170908T200000
DTEND;TZID=UTC+0:20170908T200000
DTSTAMP:20260421T120833
CREATED:20170605T010628Z
LAST-MODIFIED:20170820T225202Z
UID:5371-1504900800-1504900800@wndcof.org
SUMMARY:576회 닥터만 금요음악회- 오보이스트 손미래 초청연주회
DESCRIPTION:오보이스트 손미래\n서울예술고등학교\, 서울대학교 음악대학 우수 졸업\n미시간주립대학교 전액장학생 석사과정 수료\n남가주대학교에서 박사과정을 수료\n미국명예음악협회인 Pi Kappa Lambda 회원자격 획득\n음악저널콩쿠르\, 부산MBC콩쿠르\, 서울대학교 관악콩쿠르 등 입상\n미시간대학교\, 남가주대학교 오케스트라 수석 오보이스트\, 잉글리쉬 혼 주자 역임\n현 심포니송 수석 오보이스트\, The Piri(오보에 앙상블) 단원\n일본의 신주쿠 문화회관 협연 및 2017년 뉴욕 카네기홀에서 연주 등 \n피아니스트 김문경\n부산예고\, 부산대학교 음악학과 우등졸업\n미국 University of Michigan 피아노 석사 수석입학 및 전액장학생\n미국 University of Michigan 박사 졸업 전액 장학생\nUniversity of Michigan School of Music\, Theatre and Dance Graduate Student Instructor 역임\nBlue Lake Fine Arts Camp 피아노 교수 역임\n부산 듀오협회콩쿨 1위\, 부산신인음악상 우수상\, American Protégé International Piano Competition 2위 및 카네기홀 연주\n현 부산대학교 출강 \n플루티스트 정윤희\n예원졸업. 서울예고 재학중 미국유학.\nNew England Conservatory 학사 및 석사졸업.\nUniversity of Southern California 박사졸업.\n일본 요코하마 국제콩쿨 1위없는 2위\, Pasadena Showcase Competition 2위.\nTBC 방송콩쿨 1위\, 음악저널콩쿨 1위\, 코리안 필하모닉 콩쿨 1위.\n금호 영아티스트 독주회\, 코리안 심포니\, 뉴서울 필하모닉\, 코리안 필하모닉\, Thornton Baroque\nSinfonia와 협연. LA Opera 초청<디도와에네아스> 바로크 플룻 수석역임.\nColburn School Jumpstart program Mentor Teacher\, Diamond Bar High\, JCM 강사역임.\n현 성남시향 객원수석\, 금난새유스오케스트라 GYO 강사\, EtonHouse Seoul\, 서울 신학대학 콘서바토리 출강 \n  \nF. Poulenc   Sonata for Oboe and Piano\nI. Elégie\nII. Scherzo\nIII. Déploration\nT. Musgrave    Niobe for Oboe and Pre-Recorded Sound \nV. Williams    Six Studies in English Folk Song\narranged for English Horn and Piano\nI. Adagio (Lovely on the Water)\nII. Andante sostenuto (Spurn Point)\nIII. Larghetto (Van Dieman’s Land)\nIV. Lento (She Borrowed Some of her Mother’s Gold)\nV. Andante tranquillo (The Lady and the Dragon)\nVI. Allegro vivace (As I walked over London Bridge) \nM. Dring       Trio for Flute\, Oboe and Piano\nI. Allegro con brio\nII. Andante semplice\nIII. Allegro Giocoso \n  \n
URL:http://wndcof.org/wordpress/?tribe_events=576%ed%9a%8c-%eb%8b%a5%ed%84%b0%eb%a7%8c-%ea%b8%88%ec%9a%94%ec%9d%8c%ec%95%85%ed%9a%8c-%ec%95%84%ed%8b%b0%ec%8a%a4-%ec%bd%b0%eb%a5%b4%ed%85%9f-%ec%b4%88%ec%b2%ad%ec%97%b0%ec%a3%bc%ed%9a%8c
CATEGORIES:닥터만 금요음악회 일정
ATTACH;FMTTYPE=image/jpeg:http://wndcof.org/wordpress/wp-content/uploads/2017/06/손미래.jpg
END:VEVENT
END:VCALENDAR