BEGIN:VCALENDAR
VERSION:2.0
PRODID:-//왈츠와 닥터만 커피 - ECPv4.8//NONSGML v1.0//EN
CALSCALE:GREGORIAN
METHOD:PUBLISH
X-WR-CALNAME:왈츠와 닥터만 커피
X-ORIGINAL-URL:http://wndcof.org/wordpress
X-WR-CALDESC:Events for 왈츠와 닥터만 커피
BEGIN:VEVENT
DTSTART;TZID=UTC+0:20171020T200000
DTEND;TZID=UTC+0:20171020T200000
DTSTAMP:20260421T135059
CREATED:20161019T195041Z
LAST-MODIFIED:20171016T194211Z
UID:4389-1508529600-1508529600@wndcof.org
SUMMARY:581회 닥터만 금요음악회- 벨루스콰르텟 초청연주회
DESCRIPTION:벨루스 콰르텟\n정상의 기량과 조화로운 팀워크로 주목받고 있는 벨루스 콰르텟은 바이올리니스트 고진영\, 김정현\, 비올리스트 김신희\, 첼리스트 송인정\, 이상 개개인이 화려한 기량을 가진 실력파 연주자로 이루어진 현악 사중주단으로 ‘매력’이라는 팀명처럼 음악의 다양한 색깔을 전하며 청중과 함께 느끼고 호흡할 수 있는 연주를 모토로 삼고 있다.\n오사카 국제콩쿠르 3위 입상과 더불어 예술의 전당\, 일본 다카츠키 현대음악극장을 비롯하여 KT체임버홀 초청공연\, 평촌아트홀 아침음악회\, 의정부 예술의전당\, 하남문화예술회관\, 과천시민회관\, 안산문화예술의전당\, 태안문화예술회관\, 경남문화예술회관\, 부산금정문화회관\, 서귀포 예술의전당 등 전국의 다양한 무대에 올랐다. 콘서트 홀에서의 정기연주회 뿐만 아니라 복권기금의 ‘소외계층 문화사업’의 연주자로 선정되어 연간 수 차례의 복지시설 순회연주를 마쳤다. 2017년 ‘방방곡곡 문화공감사업’의 연주단체로 선정되어 지방공연장의 활성화에도 기여하고  있으며 벨루스 콰르텟에게 헌정된 그들만의 고유한 레퍼토리를 다수 보유하고 있다.\n제1바이올린 고진영\n예원학교\, 서울예고\, 서울대학교 음악대학 졸업.\n이스트만 음대 석사\, Rutgers 뉴저지 주립대학교 박사 (DMA) 취득\n이화경향\, 조선일보\, 선화 콩쿠르 1위.\nEastman 콩쿠르\, Rutgers 콩쿠르 우승 및 협연\nGreece Symphony\, NVCC Annandale Symphony\, 서울시향 등과 협연\n2008 한국문화예술위원회 신진예술가로 선정\nKBS 클래식오디세이 및 FM <KBS 음악실> 출연\n현 Soliall 오케스트라 악장\, 단국대 출강 \n제2바이올린 김정현\nIdyllwild Arts Academy\, Harid Conservatory 졸업.\n이스트만 음대 석사 및 박사 (DMA) 취득\n뉴욕 Luzerne Music Festival 콩쿠르 우승 및 협연\nCaroline Cirotzki Barsh Award 수상\nJohn F. Kennedy Center\, Hollywood Bowl\, Lincoln Theater 연주\nMiami Symphony Orchestra\, Southwest Florida Symphony 수석 역임\nFM <KBS 음악실> 출연\, 뉴욕 한미문화원 후원예술가로 선정 \n첼리스트 송인정\n예원학교\, 서울예고\, 서울대학교 음악대학 졸업.\n뉴잉글랜드 콘서바토리 석사\, 보스턴 대학교 박사 (DMA) 취득\n중앙음악\, 이화경향\, 뉴욕 Artist International 콩쿠르 등 수상\n뉴욕 카네기홀\, 시카고 Dame Myra Hess 콘서트시리즈 초청독주회 (TV와 WFMT라디오로 실황 생중계)\, KBS교향악단 등과 협연\n바흐무반주 첼로모음곡 전곡연주회(서울명동대성당 2013)- 실황음반 발매\n현 서울솔리스트 첼로앙상블 멤버\, 가천대 출강 \n비올리스트 이화진\n선화예고\, 한국예술종합학교 전문사과정 졸업\, 프라이부르크국립음대 디플롬\, 아드방스과정 졸업\n한전아츠풀콩쿨 기악부문대상\n빌라무지카 장학생\n말러 실내악페스티벌 아카데미 초청연주\n학헨부어크 페스티벌 초청연주\n리트라티(이태리)페스티벌 초청연주\n팀프앙상블 초청연주\n현 선화예술중고 강사 에라토앙상블 단원 청주시향 객원수석 역임 \n60분간의 세계일주 \n<독일>         J. Brahms                  Hungarian Dance No. 5 \n<독일+영국>  J. Newton/J. S. Bach   Amazing Grace with Bach \n<영국>        A. d. Lulli                  Celebrated Chop Waltz \n<프랑스>       C .M. Schonberg        Les Miserables \n<오스트리아> J. J. Strauss               Pizzicato Polka \n<아르헨티나> C. Gardel                  Por Una Cabeza- \n<이태리>      V. Monti                    Czardas \n<미국>        Scott Joplin                Entertainer \n<한국>        아리랑 \n<세계일주>   M.J.Hill/ P.Heidrich      Happy Birthday Variationen \n
URL:http://wndcof.org/wordpress/?tribe_events=581%ed%9a%8c-%eb%8b%a5%ed%84%b0%eb%a7%8c-%ea%b8%88%ec%9a%94%ec%9d%8c%ec%95%85%ed%9a%8c-%eb%b2%a8%eb%a3%a8%ec%8a%a4%ec%bd%b0%eb%a5%b4%ed%85%9f-%ec%b4%88%ec%b2%ad%ec%97%b0%ec%a3%bc%ed%9a%8c
CATEGORIES:닥터만 금요음악회 일정
ATTACH;FMTTYPE=image/jpeg:http://wndcof.org/wordpress/wp-content/uploads/2016/10/벨루스-1.jpg
END:VEVENT
END:VCALENDAR