BEGIN:VCALENDAR
VERSION:2.0
PRODID:-//왈츠와 닥터만 커피 - ECPv4.8//NONSGML v1.0//EN
CALSCALE:GREGORIAN
METHOD:PUBLISH
X-WR-CALNAME:왈츠와 닥터만 커피
X-ORIGINAL-URL:http://wndcof.org/wordpress
X-WR-CALDESC:Events for 왈츠와 닥터만 커피
BEGIN:VEVENT
DTSTART;TZID=UTC+0:20190802T200000
DTEND;TZID=UTC+0:20190802T210000
DTSTAMP:20260421T104009
CREATED:20190708T212027Z
LAST-MODIFIED:20190730T161429Z
UID:7773-1564776000-1564779600@wndcof.org
SUMMARY:665회 닥터만 금요음악회 - 한여름밤의 실내악 연주회
DESCRIPTION:피아니스트 노미경 \n서울예고\, 이화여자대학교 음악대학 졸업\nFrankfurt 국립음대 Diploma 취득\, 최고연주자 과정 수료\n서울교대 콩쿠르\, 이화경향 콩쿠르 입상\, 동아음악 콩쿠르 피아노 부문 1위 및 전체대상\n조선일보사 주최 신인음악회 출연\, ‘예고를 빛낸 음악인상’ 수상\n예술의전당 초청연주자 시리즈\, 월간 피아노음악 초청시리즈\, 월간 객석 초청 예음시리즈\, 금호아트홀 금요시리즈\,\n금호리사이틀홀 초청연주\, 로댕갤러리 초청연주\, 아시아고 아트홀 개관기념 시리즈\, 세라믹 팔래스홀 초청연주\n예술의전당 교향악 축제\, Beethoven Festival\, Mozart Festival 연주\n광주시향\, 수원시향\, Eurasian Chamber Orchestra\, Eurasian Philharmonic Orchestra\, 뉴서울 Philharmaonic Orichestra\, 서울 String Ensemble\,\n세종목관 Chamber Ensemble 협연\, 독일 Koln Trio 객원 연주자 금호아트홀\, 대전엑스포홀 초청연주 참가\n스웨덴 Stockholm Wenner-Gren Center 초청 독주회\, 헝가리의 대표적인 Mav Symphony Orchestra\, Budapest Vigado 극장 협연\nCzech Praha Radio Chamber Orchestra 협연\, 러시아 Kirov Orchestra\, 루마니아 대표 교향악단 Gorge Enescu Philharmonic Orchestra\n폴란드 Krakov Philharmonic Chamber Orchestra\, 독일 Kammer Orchestra 협연\nMaxiens Larrieux 협연\, 중국문화부 초청 청도공연 서울 바로크합주단과 협연\, 일본 Ogaki시 초청 독주회\,\n독일 Zeilitzheimer Sommer Festival 초청 Foderkreis Schloss 연주\, 중국 대련\, 러시아 Vladivostok 연주회\n독주 음반‘Romantic Talk (Clara & Robert Schumann)’\,‘Happy Recollections’\n현) 이화여자대학교 음악대학 교수\, 상명대학교 문화예술대학 겸임교수 역임 \n첼리스트 노인경 \n예원학교\, 서울예고\, 서울대 음대 졸업\n독일 뮌헨국립음대 최고 연주자 과정 (Meisterklassen Diploma) 졸업\nKBS 교향악단\, 서울시향 및 서울대 음대교향악단과의 협연\n조선일보사 주최 신인음악회\n호주 아시아청소년 음악제 및 영국 Aberdeen International Music Festival\n일본 Kusatsu 국제음악제\n중앙콩쿨1등\, 서울교대콩쿨 1등\, 동아콩쿨\, 이화 경향콩쿨입상\, 예음실내악콩쿨대상\n금호갤러리 초청 독주회\n러시아 St. Petersburg Chamber\, 러시아 하바로프스크 극동 오케스트라\, 홍콩 Pan Asia Orchestra\n서울 바로크 합주단\, 코리안심포니\, 서울심포니\, 서울 아카데미 심포니\, 전주시향 협연\n예술의 전당 주최 교향악 축제\, 실내악 축제\, 11시 콘서트\n서울바로크합주단 단원\n미국\, 캐나다\, 유럽\, 동남아 순회 연주\n현) 상명대 교수\, 서울바로크합주단 단원 \n바이올리니스트 노예리 \n서울예원학교\, 서울예술고등학교 졸업\n미국 뉴욕 Juilliard School 학사\, 석사학위 졸업\n스트라드콩쿨\, 음악저널콩쿨\, 한독음악협회콩쿨 등 입상\nThe American Protege International Piano & Strings Competitio 입상\n뉴욕의 Carnegie Hall 연주\nNew York Piano Society Young Guest Artist로 초청 Baruch Performing Arts Center 연주\n그리스 아테네 주최한 International Violin Masterclass 초청\nThe Juilliard Orchestra & Sibelius Academy Symphony Orchestra Tour 선발되어 헬싱키\, 스톡홀름\, 뉴욕 등에서 연주\nVerosi Ensemble 멤버 연주\nSejong Soloists의 멤버로 뉴욕 Carnegie Hall에서 연주\nNew World Symphony의 substitute violinist 선발\n스페인 Academia Internacional de Musica de Solsona\, 일본 Asago Internatinal Music Festival\, 싱가포르 Violin Festival\n미국 Virginia Heifetz International Music Institute\, Santa Barbara의 Music Academy of the West\, Maine의 Kneisel Hall Chamber Music Festival & School 등 연주\n사사: Juilliard Hyo Kang 교수\, Adele Anthony 교수\, Sylvia Rosenberg \n  \nProgram \nJ. S. BACH – Sonata for Violin Solo No.2 in A Minor\, BWV 1003\nGrave\nFugue\nAndante\nAllegro\n(노예리; Violin) \nL. v. BEETHOVEN – 12 Variations on “See the Conquering Hero Comes” for Cello and Piano\, WoO 45 (G. F. Handel’s Judas Maccabaeus)\n(노인경; Celllo\, 노미경; Piano) \nF. CHOPIN – Introduction and Polonaise Brillante for Cello and Piano in C Major\, Op.3\n(노인경; Cello\, 노미경; Piano) \nR. SCHUMANN – F. LISZT Widmung (Dedication) for Piano\n(노미경; Piano) \nL. v. BEETHOVEN – Trio for Violin\, Cello\, and Piano in B flat Major\, Op.11 “Gassenhauer”\n(노미경; Piano\, 노예리; Violin\, 노인경; Cello) \n
URL:http://wndcof.org/wordpress/?tribe_events=665%ed%9a%8c-%eb%8b%a5%ed%84%b0%eb%a7%8c-%ea%b8%88%ec%9a%94%ec%9d%8c%ec%95%85%ed%9a%8c-%ec%b2%bc%eb%a6%ac%ec%8a%a4%ed%8a%b8-%eb%85%b8%ec%9d%b8%ea%b2%bd-%ec%b4%88%ec%b2%ad%ec%97%b0%ec%a3%bc%ed%9a%8c
CATEGORIES:닥터만 금요음악회 일정
ATTACH;FMTTYPE=image/jpeg:http://wndcof.org/wordpress/wp-content/uploads/2019/07/노인경-3-e1562653221639.jpg
END:VEVENT
END:VCALENDAR